BEGIN:VCALENDAR
VERSION:2.0
PRODID:-//Tukios.com/
BEGIN:VEVENT
UID:dfdfef90-553a-4a52-b3eb-06cf7acebc48@www.shinklemortuary.com
DTSTAMP:20260424T232626Z
DTSTART:20260430T180000Z
DTEND:20260430T190000Z
SUMMARY:Funeral Service
DESCRIPTION:
URL:https://www.shinklemortuary.com/obituaries/doris-wagoner
LOCATION: 1819 West Douglas Avenue  Wichita KS 67213
GEO:37.683345;-97.362084
END:VEVENT
END:VCALENDAR