BEGIN:VCALENDAR
VERSION:2.0
PRODID:-//Tukios.com/
BEGIN:VEVENT
UID:57bffa18-ace9-4a33-8933-0598ad12eb3a@www.shinklemortuary.com
DTSTAMP:20260424T232358Z
DTSTART:20260429T223000Z
DTEND:20260430T003000Z
SUMMARY:Visitation with Family
DESCRIPTION:
URL:https://www.shinklemortuary.com/obituaries/doris-wagoner
LOCATION: 146 N Lamar Ave  Haysville KS 67060
GEO:37.5656178;-97.3547286
END:VEVENT
END:VCALENDAR