BEGIN:VCALENDAR
VERSION:2.0
PRODID:-//Tukios.com/
BEGIN:VEVENT
UID:cac66793-53e8-480f-a6e4-d024b78d0f1f@www.shinklemortuary.com
DTSTAMP:20260424T232652Z
DTSTART:20260429T180000Z
DTEND:20260430T003000Z
SUMMARY:Visitation
DESCRIPTION:
URL:https://www.shinklemortuary.com/obituaries/doris-wagoner
LOCATION: 146 N Lamar Ave  Haysville KS 67060
GEO:37.5656178;-97.3547286
END:VEVENT
END:VCALENDAR