BEGIN:VCALENDAR
VERSION:2.0
PRODID:-//Tukios.com/
BEGIN:VEVENT
UID:e69db3b9-3577-4951-9f05-c7e171348ac2@www.shinklemortuary.com
DTSTAMP:20260420T210445Z
DTSTART:20260424T153000Z
DTEND:20260424T163000Z
SUMMARY:Mass
DESCRIPTION:
URL:https://www.shinklemortuary.com/obituaries/curtis-voldrich
LOCATION: 1830 West Grand Avenue  Haysville KS 67060
GEO:37.5647208;-97.3730181
END:VEVENT
END:VCALENDAR