BEGIN:VCALENDAR
VERSION:2.0
PRODID:-//Tukios.com/
BEGIN:VEVENT
UID:ed4fc00d-3275-4dac-abb4-09991ff26570@www.shinklemortuary.com
DTSTAMP:20260420T211208Z
DTSTART:20260424T150000Z
DTEND:20260424T153000Z
SUMMARY:Rosary
DESCRIPTION:
URL:https://www.shinklemortuary.com/obituaries/curtis-voldrich
LOCATION: 1830 West Grand Avenue  Haysville KS 67060
GEO:37.5647208;-97.3730181
END:VEVENT
END:VCALENDAR